BEGIN:VCALENDAR
VERSION:2.0
PRODID:-//MAD Dragon Destiny 2 Clan - ECPv6.15.11//NONSGML v1.0//EN
CALSCALE:GREGORIAN
METHOD:PUBLISH
X-WR-CALNAME:MAD Dragon Destiny 2 Clan
X-ORIGINAL-URL:https://maddragon.pl
X-WR-CALDESC:Events for MAD Dragon Destiny 2 Clan
REFRESH-INTERVAL;VALUE=DURATION:PT1H
X-Robots-Tag:noindex
X-PUBLISHED-TTL:PT1H
BEGIN:VTIMEZONE
TZID:UTC
BEGIN:STANDARD
TZOFFSETFROM:+0000
TZOFFSETTO:+0000
TZNAME:UTC
DTSTART:20160101T000000
END:STANDARD
END:VTIMEZONE
BEGIN:VTIMEZONE
TZID:America/Los_Angeles
BEGIN:DAYLIGHT
TZOFFSETFROM:-0800
TZOFFSETTO:-0700
TZNAME:PDT
DTSTART:20170312T100000
END:DAYLIGHT
BEGIN:STANDARD
TZOFFSETFROM:-0700
TZOFFSETTO:-0800
TZNAME:PST
DTSTART:20171105T090000
END:STANDARD
BEGIN:DAYLIGHT
TZOFFSETFROM:-0800
TZOFFSETTO:-0700
TZNAME:PDT
DTSTART:20180311T100000
END:DAYLIGHT
BEGIN:STANDARD
TZOFFSETFROM:-0700
TZOFFSETTO:-0800
TZNAME:PST
DTSTART:20181104T090000
END:STANDARD
BEGIN:DAYLIGHT
TZOFFSETFROM:-0800
TZOFFSETTO:-0700
TZNAME:PDT
DTSTART:20190310T100000
END:DAYLIGHT
BEGIN:STANDARD
TZOFFSETFROM:-0700
TZOFFSETTO:-0800
TZNAME:PST
DTSTART:20191103T090000
END:STANDARD
END:VTIMEZONE
BEGIN:VTIMEZONE
TZID:UTC
BEGIN:STANDARD
TZOFFSETFROM:+0000
TZOFFSETTO:+0000
TZNAME:UTC
DTSTART:20160101T000000
END:STANDARD
END:VTIMEZONE
BEGIN:VEVENT
DTSTART;TZID=UTC:20180322T200000
DTEND;TZID=UTC:20180322T200000
DTSTAMP:20260425T235920
CREATED:20180321T210108Z
LAST-MODIFIED:20180321T210108Z
UID:608-1521748800-1521748800@maddragon.pl
SUMMARY:Eater of worlds/Levi for newcomers
DESCRIPTION:8PM GMT
URL:https://maddragon.pl/event/eater-worlds-levi-newcomers/
END:VEVENT
BEGIN:VEVENT
DTSTART;TZID=UTC:20180321T190000
DTEND;TZID=UTC:20180321T190000
DTSTAMP:20260425T235920
CREATED:20180321T210035Z
LAST-MODIFIED:20180321T210035Z
UID:606-1521658800-1521658800@maddragon.pl
SUMMARY:Leviathan
DESCRIPTION:7PM GMT
URL:https://maddragon.pl/event/leviathan/
END:VEVENT
BEGIN:VEVENT
DTSTART;TZID=UTC:20180313T200000
DTEND;TZID=UTC:20180313T200000
DTSTAMP:20260425T235920
CREATED:20180307T152522Z
LAST-MODIFIED:20180307T152554Z
UID:602-1520971200-1520971200@maddragon.pl
SUMMARY:Raid
DESCRIPTION:8 PM GMT 🙂 \nWORLD CLOCK
URL:https://maddragon.pl/event/raid-4/
END:VEVENT
BEGIN:VEVENT
DTSTART;TZID=UTC:20180312T190000
DTEND;TZID=UTC:20180312T190000
DTSTAMP:20260425T235920
CREATED:20180307T152437Z
LAST-MODIFIED:20180307T152437Z
UID:600-1520881200-1520881200@maddragon.pl
SUMMARY:Raid
DESCRIPTION:7 PM GMT 🙂 \nWORLD CLOCK
URL:https://maddragon.pl/event/raid-3/
END:VEVENT
BEGIN:VEVENT
DTSTART;TZID=UTC:20180302T190000
DTEND;TZID=UTC:20180302T190000
DTSTAMP:20260425T235920
CREATED:20180228T163148Z
LAST-MODIFIED:20180228T163148Z
UID:592-1520017200-1520017200@maddragon.pl
SUMMARY:Raid
DESCRIPTION:7 PM GMT 🙂 \nWORLD CLOCK
URL:https://maddragon.pl/event/raid-2/
END:VEVENT
BEGIN:VEVENT
DTSTART;TZID=UTC:20180301T090000
DTEND;TZID=UTC:20180301T170000
DTSTAMP:20260425T235920
CREATED:20180228T163016Z
LAST-MODIFIED:20180228T163035Z
UID:589-1519894800-1519923600@maddragon.pl
SUMMARY:Raid
DESCRIPTION:8 PM GMT 🙂 \nWORLD CLOCK
URL:https://maddragon.pl/event/raid/
END:VEVENT
BEGIN:VEVENT
DTSTART;TZID=UTC:20180219T190000
DTEND;TZID=UTC:20180219T190000
DTSTAMP:20260425T235920
CREATED:20180219T153341Z
LAST-MODIFIED:20180219T153341Z
UID:578-1519066800-1519066800@maddragon.pl
SUMMARY:Eater of worlds
DESCRIPTION:7 PM GMT 🙂 \nWORLD CLOCK
URL:https://maddragon.pl/event/eater-of-worlds/
END:VEVENT
BEGIN:VEVENT
DTSTART;TZID=UTC:20180215T190000
DTEND;TZID=UTC:20180215T190000
DTSTAMP:20260425T235920
CREATED:20180212T192456Z
LAST-MODIFIED:20180212T200529Z
UID:576-1518721200-1518721200@maddragon.pl
SUMMARY:Raiding time
DESCRIPTION:7 PM GMT 🙂 \nWORLD CLOCK
URL:https://maddragon.pl/event/raiding-time-4/
END:VEVENT
BEGIN:VEVENT
DTSTART;TZID=UTC:20180213T190000
DTEND;TZID=UTC:20180213T190000
DTSTAMP:20260425T235920
CREATED:20180212T192207Z
LAST-MODIFIED:20180212T192403Z
UID:574-1518548400-1518548400@maddragon.pl
SUMMARY:Raiding time :)
DESCRIPTION:7 PM GMT 🙂 \nWORLD CLOCK
URL:https://maddragon.pl/event/raiding-time-3/
END:VEVENT
BEGIN:VEVENT
DTSTART;TZID=UTC:20180201T200000
DTEND;TZID=UTC:20180201T200000
DTSTAMP:20260425T235920
CREATED:20180131T202019Z
LAST-MODIFIED:20180131T202019Z
UID:571-1517515200-1517515200@maddragon.pl
SUMMARY:Raiding time
DESCRIPTION:8 PM GMT 🙂 \nWORLD CLOCK
URL:https://maddragon.pl/event/raiding-time-2/
END:VEVENT
BEGIN:VEVENT
DTSTART;TZID=UTC:20180131T190000
DTEND;TZID=UTC:20180131T190000
DTSTAMP:20260425T235920
CREATED:20180128T201554Z
LAST-MODIFIED:20180128T201554Z
UID:569-1517425200-1517425200@maddragon.pl
SUMMARY:Raiding time
DESCRIPTION:7 PM GMT 🙂 \nWORLD CLOCK
URL:https://maddragon.pl/event/raiding-time/
END:VEVENT
BEGIN:VEVENT
DTSTART;TZID=UTC:20180127T100000
DTEND;TZID=UTC:20180127T170000
DTSTAMP:20260425T235920
CREATED:20180125T225651Z
LAST-MODIFIED:20180125T225651Z
UID:564-1517047200-1517072400@maddragon.pl
SUMMARY:Leviathan part 2
DESCRIPTION:9AM GMT (10 AM CET)
URL:https://maddragon.pl/event/leviathan-part-2-2/
END:VEVENT
BEGIN:VEVENT
DTSTART;TZID=UTC:20180125T200000
DTEND;TZID=UTC:20180125T200000
DTSTAMP:20260425T235920
CREATED:20180121T153453Z
LAST-MODIFIED:20180121T155846Z
UID:555-1516910400-1516910400@maddragon.pl
SUMMARY:Leviathan Raid
DESCRIPTION:8PM GMT\, start as soon as we get enough members 🙂 \nWorld Clock
URL:https://maddragon.pl/event/leviathan-raid-5/
END:VEVENT
BEGIN:VEVENT
DTSTART;TZID=UTC:20180122T190000
DTEND;TZID=UTC:20180122T190000
DTSTAMP:20260425T235920
CREATED:20180121T153412Z
LAST-MODIFIED:20180121T153412Z
UID:553-1516647600-1516647600@maddragon.pl
SUMMARY:Leviathan Raid/Eater of Worlds
DESCRIPTION:7PM GMT\, start as soon as we get enough members 🙂 \nWorld Clock
URL:https://maddragon.pl/event/leviathan-raid-eater-worlds/
END:VEVENT
BEGIN:VEVENT
DTSTART;TZID=America/Los_Angeles:20180113T190000
DTEND;TZID=America/Los_Angeles:20180113T190000
DTSTAMP:20260425T235920
CREATED:20180112T094348Z
LAST-MODIFIED:20180112T094722Z
UID:543-1515870000-1515870000@maddragon.pl
SUMMARY:NA Leviathan Group forming
DESCRIPTION:7PM PST    \nTry to organize as many members as you can (I can’t be there cause this week I’m off). \nIf you will miss people try using this site: https://destinytracker.com/destiny/lfg?system=pc \nGood luck\, and tell me how it went please.
URL:https://maddragon.pl/event/na-leviathan-group-forming/
END:VEVENT
BEGIN:VEVENT
DTSTART;TZID=UTC:20180109T190000
DTEND;TZID=UTC:20180109T190000
DTSTAMP:20260425T235920
CREATED:20180105T220825Z
LAST-MODIFIED:20180105T220916Z
UID:540-1515524400-1515524400@maddragon.pl
SUMMARY:Leviathan Raid
DESCRIPTION:7PM GMT\, start as soon as we get enough members 🙂 \nWorld Clock
URL:https://maddragon.pl/event/leviathan-raid-4/
END:VEVENT
BEGIN:VEVENT
DTSTART;TZID=UTC:20171220T190000
DTEND;TZID=UTC:20171220T190000
DTSTAMP:20260425T235920
CREATED:20171219T125904Z
LAST-MODIFIED:20171219T125904Z
UID:508-1513796400-1513796400@maddragon.pl
SUMMARY:Leviathan Raid
DESCRIPTION:7PM GMT\, start as soon as we get enough members 🙂 \nWorld Clock
URL:https://maddragon.pl/event/leviathan-raid-3/
END:VEVENT
BEGIN:VEVENT
DTSTART;TZID=UTC:20171217T190000
DTEND;TZID=UTC:20171217T233000
DTSTAMP:20260425T235920
CREATED:20171217T074400Z
LAST-MODIFIED:20171217T120319Z
UID:493-1513537200-1513553400@maddragon.pl
SUMMARY:Eater of the Worlds Raid
DESCRIPTION:7pm GMT – let’s see what they’ve prepared for us! \nWORLD CLOCK
URL:https://maddragon.pl/event/eater-worlds-raid/
END:VEVENT
BEGIN:VEVENT
DTSTART;TZID=UTC:20171216T190000
DTEND;TZID=UTC:20171216T193000
DTSTAMP:20260425T235920
CREATED:20171210T090950Z
LAST-MODIFIED:20171216T174537Z
UID:480-1513450800-1513452600@maddragon.pl
SUMMARY:Leviathan Raid
DESCRIPTION:UPDATE: After Tuesday maintenance req should be 290/300 for normal/prestige. \n[Remember about new requirement – 300 is min\, so 310+ would be recommended.]\n \n  \nWe gather at 7PM GMT\, (World Clock) wait 30 minutes for everyone to come and then use LFG if not enough ppl. \n  \nIt will be probably last raid organized by me (Yinglong) in December – i will be off 22.12-27.12\, though maybe we will run something  here 28-30.
URL:https://maddragon.pl/event/leviathan-raid-2/
END:VEVENT
BEGIN:VEVENT
DTSTART;VALUE=DATE:20171209
DTEND;VALUE=DATE:20171210
DTSTAMP:20260425T235920
CREATED:20171209T102931Z
LAST-MODIFIED:20171209T102931Z
UID:473-1512777600-1512863999@maddragon.pl
SUMMARY:Trials of The Nine
DESCRIPTION:Time to kick assess on the trials. Get ready for laser tag! xD
URL:https://maddragon.pl/event/trials-of-the-nine-2/
END:VEVENT
BEGIN:VEVENT
DTSTART;VALUE=DATE:20171205
DTEND;VALUE=DATE:20171206
DTSTAMP:20260425T235920
CREATED:20171101T183045Z
LAST-MODIFIED:20171202T085343Z
UID:305-1512432000-1512518399@maddragon.pl
SUMMARY:Expansion I - Curse of Osiris
DESCRIPTION:Expansion is coming! Get ready guardians!
URL:https://maddragon.pl/event/expansion-i-curse-osiris/
END:VEVENT
BEGIN:VEVENT
DTSTART;TZID=UTC:20171203T190000
DTEND;TZID=UTC:20171203T190000
DTSTAMP:20260425T235920
CREATED:20171203T084725Z
LAST-MODIFIED:20171203T084745Z
UID:419-1512327600-1512327600@maddragon.pl
SUMMARY:Leviathan part 2
DESCRIPTION:Adding as an event so no one forgets about it 😉 \nhttps://www.timeanddate.com/worldclock/converter.html?iso=20171202T190000&p1=tz_gmt&p2=tz_pt&p3=tz_cet \nIf we manage to come quicker we will start quicker\, if not we will wait till all comes in.
URL:https://maddragon.pl/event/leviathan-part-2/
END:VEVENT
BEGIN:VEVENT
DTSTART;TZID=UTC:20171202T193000
DTEND;TZID=UTC:20171202T200000
DTSTAMP:20260425T235920
CREATED:20171127T230247Z
LAST-MODIFIED:20171201T192526Z
UID:411-1512243000-1512244800@maddragon.pl
SUMMARY:Leviathan Raid
DESCRIPTION:UPDATE: Thanks to delayed maintenance we postponed raid! \nMeeting for Leviathan raid\, after 30 minutes I will start to look for people on LFG. \nhttps://www.timeanddate.com/worldclock/converter.html?iso=20171202T193000&p1=tz_gmt&p2=tz_pt&p3=1459
URL:https://maddragon.pl/event/leviathan-raid/
END:VEVENT
BEGIN:VEVENT
DTSTART;TZID=UTC:20171130T190000
DTEND;TZID=UTC:20171130T203000
DTSTAMP:20260425T235920
CREATED:20171128T123603Z
LAST-MODIFIED:20171128T123603Z
UID:413-1512068400-1512073800@maddragon.pl
SUMMARY:NF/Crucible clearout
DESCRIPTION:Clearing NF/Crucible for clan engram rewards before raid to be as high as possible. 🙂 \nhttps://www.timeanddate.com/worldclock/converter.html?iso=20171130T190000&p1=tz_gmt&p2=tz_pt
URL:https://maddragon.pl/event/nfcrucible-clearout/
END:VEVENT
BEGIN:VEVENT
DTSTART;VALUE=DATE:20171121
DTEND;VALUE=DATE:20171128
DTSTAMP:20260425T235920
CREATED:20171124T101603Z
LAST-MODIFIED:20171124T101603Z
UID:402-1511222400-1511827199@maddragon.pl
SUMMARY:Iron Banner
DESCRIPTION:Iron Banner Season I – on PC we have only 1 week to get all the rewards for season one. So i guess this will be our priority for these week! Good luck everyone!
URL:https://maddragon.pl/event/iron-banner/
END:VEVENT
BEGIN:VEVENT
DTSTART;TZID=UTC:20171118T080000
DTEND;TZID=UTC:20171119T210000
DTSTAMP:20260425T235920
CREATED:20171117T163653Z
LAST-MODIFIED:20171117T185106Z
UID:380-1510992000-1511125200@maddragon.pl
SUMMARY:Trials of the Nine/ Leviathan
DESCRIPTION:Again we will try to complete trials of the nine (pvp)\, all who wanna join – PM me on discord or on our clan chat\, and be sure to complete your pvp weekly milestone. \n  \nIf we will get 6 members willing to run\, we can always try raiding – I can explain all rooms mechanics so everyone are welcome – both experienced and those who never run it too 🙂
URL:https://maddragon.pl/event/trials-of-the-nine/
END:VEVENT
BEGIN:VEVENT
DTSTART;TZID=UTC:20171117T200000
DTEND;TZID=UTC:20171117T210000
DTSTAMP:20260425T235920
CREATED:20171117T163256Z
LAST-MODIFIED:20171117T163256Z
UID:378-1510948800-1510952400@maddragon.pl
SUMMARY:NF Cleaning
DESCRIPTION:NF run for all who did not do it yet. I will explain mechanic. We can make few fire-teams if needed. One of the hardest (if not the hardest) NF ever (till now ofc). \nhttps://www.timeanddate.com/worldclock/converter.html?iso=20171117T200000&p1=tz_gmt&p2=tz_pt \n  \n 
URL:https://maddragon.pl/event/nf-cleaning/
END:VEVENT
BEGIN:VEVENT
DTSTART;TZID=UTC:20171112T180000
DTEND;TZID=UTC:20171112T183000
DTSTAMP:20260425T235920
CREATED:20171112T142358Z
LAST-MODIFIED:20171112T142449Z
UID:348-1510509600-1510511400@maddragon.pl
SUMMARY:NF clearout
DESCRIPTION:NF run for all who did not do it yet. I will explain mechanic witch is super easy this week\, so everyone who need to do it come. We can make few fire-teams if needed. \nhttps://www.timeanddate.com/worldclock/converter.html?iso=20171112T180000&p1=tz_gmt&p2=tz_pt \n  \n 
URL:https://maddragon.pl/event/nf-clearout/
END:VEVENT
BEGIN:VEVENT
DTSTART;TZID=UTC:20171109T170000
DTEND;TZID=UTC:20171109T173000
DTSTAMP:20260425T235920
CREATED:20171106T223808Z
LAST-MODIFIED:20171106T223930Z
UID:313-1510246800-1510248600@maddragon.pl
SUMMARY:Pre-Raid meeting
DESCRIPTION:We would like to try full clan Leviathan raid this weekend – making organised groups will help all of us in mechanic learning. All members are welcomed – you don’t need to know raid mechanic. 1st clan before-raid meeting – let’s check how many people can get on time – if you are interested but this hour is not for you write to Yinglong or Misiek. We will try to find best hours for everyone to participate in event. \nBelow you can check yours timezone: \nhttps://www.timeanddate.com/worldclock/converter.html?iso=20171109T170000&p1=tz_gmt&p2=tz_pt \nSecond try will take place on Saturday.
URL:https://maddragon.pl/event/pre-raid-meeting/
END:VEVENT
END:VCALENDAR